BEGIN:VCALENDAR
VERSION:2.0
PRODID:-//Iforum - ECPv5.1.6//NONSGML v1.0//EN
CALSCALE:GREGORIAN
METHOD:PUBLISH
X-WR-CALNAME:Iforum
X-ORIGINAL-URL:https://iforum.no
X-WR-CALDESC:Events for Iforum
BEGIN:VTIMEZONE
TZID:UTC
BEGIN:STANDARD
TZOFFSETFROM:+0000
TZOFFSETTO:+0000
TZNAME:UTC
DTSTART:20220101T000000
END:STANDARD
END:VTIMEZONE
BEGIN:VEVENT
DTSTART;TZID=UTC:20220913T110000
DTEND;TZID=UTC:20220913T140000
DTSTAMP:20260426T013609
CREATED:20220811T151358Z
LAST-MODIFIED:20220811T151358Z
UID:2540-1663066800-1663077600@iforum.no
SUMMARY:Visit to the Farm of the Royal Estate at Bygdøy
DESCRIPTION:The Special Events Committee is pleased to invite our members on a tour of the farm at the Royal Estate at Bygdøy. As we walk around the farm\, our guide Mari Bjørnsrud Gabrielsen will tell us about its history and daily operation. \nSince medieval times\, the estate has mainly been a royal residence\, but it was also a monastic estate owned by the Cistercians at Hovedøya. In modern times\, the farm has been both a public park and a test farm specializing in organic husbandry and milk production. It also provides information about modern agricultural techniques and cultural and natural history. \nThere are horses\, sheep\, pigs\, hens\, cows and rabbits in the visitors’ centre. The Bygdøy Royal Estate operates a pony riding school for children. \nThe barn houses 60 dairy cows. The organic milk produced is delivered to the dairy cooperative TINE. The farm is Oslo’s largest milk producer and is run by Norsk Folkemuseum. \nDATE/TIME:       Tuesday\, September 13\, at 10:45 (for 11:00) \nSIGN UP:             By email to the Mona Reinboth as soon as possible and no later than Tuesday\, September 6. \nPRICE:                NOK 115\,- to to be paid preferably to the Forum bank account: 1600.40.36631 or Vipps to 591747. Please state your name\, date and name of the event in the transaction. \nMaximum participants: 30 \nPLACE:               Bygdøyveien 62\, 0287 Oslo \nTRANSPORT:     Free parking at the farm \nBus nr 30 from the Nathionalteatret to the bus stop at the farm. \nGUESTS:             Guests are welcome if there is room. Members have priority. \nFor questions or last minutes cancellation please contact Mona Bækkelund Reinboth. For more information\, please contact the office. \nNo-shows and cancellations after the deadline will be \ncharged. \nMona Reinboth
URL:https://iforum.no/event/visit-to-the-farm-of-the-royal-estate-at-bygdoy/
LOCATION:Bygdøyveien 62\, 0287 Oslo
CATEGORIES:Visits/Special
ORGANIZER;CN="International%20Forum%20Oslo":MAILTO:info@iforum.no
END:VEVENT
END:VCALENDAR