BEGIN:VCALENDAR
VERSION:2.0
PRODID:-//Iforum - ECPv5.1.6//NONSGML v1.0//EN
CALSCALE:GREGORIAN
METHOD:PUBLISH
X-WR-CALNAME:Iforum
X-ORIGINAL-URL:https://iforum.no
X-WR-CALDESC:Events for Iforum
BEGIN:VTIMEZONE
TZID:UTC
BEGIN:STANDARD
TZOFFSETFROM:+0000
TZOFFSETTO:+0000
TZNAME:UTC
DTSTART:20220101T000000
END:STANDARD
END:VTIMEZONE
BEGIN:VEVENT
DTSTART;TZID=UTC:20220815T120000
DTEND;TZID=UTC:20220815T140000
DTSTAMP:20260426T061344
CREATED:20220607T115453Z
LAST-MODIFIED:20220607T170512Z
UID:2454-1660564800-1660572000@iforum.no
SUMMARY:Arendalsuka 2022 : Global Outlook A Transformative Decade
DESCRIPTION:Keynote Speakers \nAnniken Huitfeldt\, Foreign Minister of Norway \nKevin Rudd\, Former Prime Minister of Australia \nAchim Steiner\, Head of UNDP \nAyaan Adam\, of the Africa Finance Corporation \n  \n 
URL:https://iforum.no/event/arendalsuka-2022-global-outlook-a-transformative-decade/
LOCATION:Arendal Kulturhus\, Sam Eydes plass 2\, Arendal\, 4804\, Norway
CATEGORIES:BOARD EVENTS
END:VEVENT
END:VCALENDAR