BEGIN:VCALENDAR
VERSION:2.0
PRODID:-//Iforum - ECPv5.1.6//NONSGML v1.0//EN
CALSCALE:GREGORIAN
METHOD:PUBLISH
X-WR-CALNAME:Iforum
X-ORIGINAL-URL:https://iforum.no
X-WR-CALDESC:Events for Iforum
BEGIN:VTIMEZONE
TZID:UTC
BEGIN:STANDARD
TZOFFSETFROM:+0000
TZOFFSETTO:+0000
TZNAME:UTC
DTSTART:20220101T000000
END:STANDARD
END:VTIMEZONE
BEGIN:VEVENT
DTSTART;TZID=UTC:20220816T090000
DTEND;TZID=UTC:20220816T110000
DTSTAMP:20260426T043807
CREATED:20220607T120503Z
LAST-MODIFIED:20220803T102130Z
UID:2459-1660640400-1660647600@iforum.no
SUMMARY:Arendalsuka 2022 : Ambassadors' Round Table
DESCRIPTION:AMBASSADORS ROUNDTABLE \nAugust 16 from 09:00 to 11:00 at Gamle Rådhus\, Arendal \nDe-globalisation \nA stocktaking of where we are headed: isolation\, regionalisation or continued global integration \nKeynote Speakers: \n\nE. Amr Ahmed Ramadan\, Ambassador of Egypt\nE. Nicolas de la Grandville\, Ambassador of the European Union\n\nH.E. Deirdre Kent\, Ambassador of Canada \n\nE. Kerin Ayyalaraju\, Ambassador of Australia to Denmark\, Norway and Iceland\n\nModerator: Anita Pratap \nFor more information: Arendalsuka 2022 – Welcome to Arendalsuka
URL:https://iforum.no/event/ambassadors-round-table-arendalsuka-2022/
LOCATION:Gamle Rådhus Arendal\, Rådhusgaten 10\, Arendal\, 4836\, Norway
CATEGORIES:BOARD EVENTS
ATTACH;FMTTYPE=image/jpeg:https://iforum.no/wp-content/uploads/2022/06/Ambassadors-Table.jpg
END:VEVENT
END:VCALENDAR